BEGIN:VCALENDAR
VERSION:2.0
PRODID:-//hacksw/handcal//NONSGML v1.0//EN
BEGIN:VEVENT
SUMMARY:TIR LIBRE
UID:60deb014-f2db-4332-b5b4-876fcc7fa4ab
DTSTART:20260625T154500Z
DTEND:20260625T190000Z
LOCATION:Localisation   
CATEGORIES:Entrainement
STATUS:
URL;VALUE=URI:https://stadeaurillacois.sportsregions.fr/evenements/2026/06/25/tir-libre-2346025
END:VEVENT
END:VCALENDAR
