BEGIN:VCALENDAR
VERSION:2.0
PRODID:-//hacksw/handcal//NONSGML v1.0//EN
BEGIN:VEVENT
SUMMARY:TIR LIBRE
UID:a37d0ed4-3a3a-4049-bd42-fdf4b369bf33
DTSTART:20260618T154500Z
DTEND:20260618T190000Z
LOCATION:Localisation   
CATEGORIES:Entrainement
STATUS:
URL;VALUE=URI:https://stadeaurillacois.sportsregions.fr/evenements/2026/06/18/tir-libre-2346023
END:VEVENT
END:VCALENDAR
