BEGIN:VCALENDAR
VERSION:2.0
PRODID:-//hacksw/handcal//NONSGML v1.0//EN
BEGIN:VEVENT
SUMMARY:TIR LIBRE
UID:05bdee3f-8d75-4e8d-b095-1aabda119057
DTSTART:20260616T154500Z
DTEND:20260616T190000Z
LOCATION:Localisation   
CATEGORIES:Entrainement
STATUS:
URL;VALUE=URI:https://stadeaurillacois.sportsregions.fr/evenements/2026/06/16/tir-libre-2346022
END:VEVENT
END:VCALENDAR
