BEGIN:VCALENDAR
VERSION:2.0
PRODID:-//hacksw/handcal//NONSGML v1.0//EN
BEGIN:VEVENT
SUMMARY:TIR LIBRE
UID:948fe895-c383-45d2-85a4-21685483db94
DTSTART:20260609T154500Z
DTEND:20260609T190000Z
LOCATION:Localisation   
CATEGORIES:Entrainement
STATUS:
URL;VALUE=URI:https://stadeaurillacois.sportsregions.fr/evenements/2026/06/09/tir-libre-2346020
END:VEVENT
END:VCALENDAR
