BEGIN:VCALENDAR
VERSION:2.0
PRODID:-//hacksw/handcal//NONSGML v1.0//EN
BEGIN:VEVENT
SUMMARY:TIR LIBRE
UID:fc029865-a3f4-4195-a5f2-77bdc09390a9
DTSTART:20260604T154500Z
DTEND:20260604T190000Z
LOCATION:Localisation   
CATEGORIES:Entrainement
STATUS:
URL;VALUE=URI:https://stadeaurillacois.sportsregions.fr/evenements/2026/06/04/tir-libre-2346019
END:VEVENT
END:VCALENDAR
