BEGIN:VCALENDAR
VERSION:2.0
PRODID:-//hacksw/handcal//NONSGML v1.0//EN
BEGIN:VEVENT
SUMMARY:TIR LIBRE
UID:82857a5c-d9e8-419e-a6d4-f4aee1e3415b
DTSTART:20260528T154500Z
DTEND:20260528T190000Z
LOCATION:Localisation   
CATEGORIES:Entrainement
STATUS:
URL;VALUE=URI:https://stadeaurillacois.sportsregions.fr/evenements/2026/05/28/tir-libre-2346017
END:VEVENT
END:VCALENDAR
