BEGIN:VCALENDAR
VERSION:2.0
PRODID:-//hacksw/handcal//NONSGML v1.0//EN
BEGIN:VEVENT
SUMMARY:TIR LIBRE
UID:5c92602b-ac8c-4c74-bd1f-abac6e8ae50c
DTSTART:20260526T154500Z
DTEND:20260526T190000Z
LOCATION:Localisation   
CATEGORIES:Entrainement
STATUS:
URL;VALUE=URI:https://stadeaurillacois.sportsregions.fr/evenements/2026/05/26/tir-libre-2346016
END:VEVENT
END:VCALENDAR
