BEGIN:VCALENDAR
VERSION:2.0
PRODID:-//hacksw/handcal//NONSGML v1.0//EN
BEGIN:VEVENT
SUMMARY:TAE Viviers (07)
UID:5cd3c341-3ae2-4bbf-85db-b88c05420f2b
DTSTART:20260524T060000Z
DTEND:20260524T151500Z
LOCATION:Localisation   
CATEGORIES:Sportif
STATUS:
URL;VALUE=URI:https://stadeaurillacois.sportsregions.fr/evenements/2026/05/24/tae-viviers-07-2441040
END:VEVENT
END:VCALENDAR
