BEGIN:VCALENDAR
VERSION:2.0
PRODID:-//hacksw/handcal//NONSGML v1.0//EN
BEGIN:VEVENT
SUMMARY:TIR LIBRE
UID:a1ea6e16-0b4f-4e43-aa1b-037140363366
DTSTART:20260521T154500Z
DTEND:20260521T190000Z
LOCATION:Localisation   
CATEGORIES:Entrainement
STATUS:
URL;VALUE=URI:https://stadeaurillacois.sportsregions.fr/evenements/2026/05/21/tir-libre-2346015
END:VEVENT
END:VCALENDAR
