BEGIN:VCALENDAR
VERSION:2.0
PRODID:-//hacksw/handcal//NONSGML v1.0//EN
BEGIN:VEVENT
SUMMARY:TIR LIBRE
UID:e8f40dfe-36fc-42d5-bacb-d1bc1dead42a
DTSTART:20260519T154500Z
DTEND:20260519T190000Z
LOCATION:Localisation   
CATEGORIES:Entrainement
STATUS:
URL;VALUE=URI:https://stadeaurillacois.sportsregions.fr/evenements/2026/05/19/tir-libre-2346014
END:VEVENT
END:VCALENDAR
