BEGIN:VCALENDAR
VERSION:2.0
PRODID:-//hacksw/handcal//NONSGML v1.0//EN
BEGIN:VEVENT
SUMMARY:Formation Mental
UID:2e408273-d7b7-4150-8af8-ac99d3889e3b
DTSTART:20260516T060000Z
DTEND:20260517T160000Z
LOCATION:Gymanse Marie Marvingt Av. du Dr Jean Chanal 15000 aurillac
CATEGORIES:Formation
STATUS:
DESCRIPTION:<p>Formation au gymnase Marie-marvingt sur 2 jours.</p>
URL;VALUE=URI:https://stadeaurillacois.sportsregions.fr/evenements/2026/05/16/formation-mental-2439474
END:VEVENT
END:VCALENDAR
