BEGIN:VCALENDAR
VERSION:2.0
PRODID:-//hacksw/handcal//NONSGML v1.0//EN
BEGIN:VEVENT
SUMMARY:TIR LIBRE
UID:323bef8f-88c5-4cc9-9a8a-0fdf69839196
DTSTART:20260512T154500Z
DTEND:20260512T190000Z
LOCATION:Localisation   
CATEGORIES:Entrainement
STATUS:
URL;VALUE=URI:https://stadeaurillacois.sportsregions.fr/evenements/2026/05/12/tir-libre-2346012
END:VEVENT
END:VCALENDAR
