BEGIN:VCALENDAR
VERSION:2.0
PRODID:-//hacksw/handcal//NONSGML v1.0//EN
BEGIN:VEVENT
SUMMARY:TIR LIBRE
UID:55151e98-a136-4920-92a7-8cc2b7203fd9
DTSTART:20260507T154500Z
DTEND:20260507T190000Z
LOCATION:Localisation   
CATEGORIES:Entrainement
STATUS:
URL;VALUE=URI:https://stadeaurillacois.sportsregions.fr/evenements/2026/05/07/tir-libre-2346011
END:VEVENT
END:VCALENDAR
