BEGIN:VCALENDAR
VERSION:2.0
PRODID:-//hacksw/handcal//NONSGML v1.0//EN
BEGIN:VEVENT
SUMMARY:Concours Tir Campagne a Bargues
UID:62e2cf76-2e61-4889-a6f5-31f977d811a8
DTSTART:20260502T060000Z
DTEND:20260503T153000Z
LOCATION:Parcours de tir Exterieur  Moulin de Bargues 15130 Sansac-de-Marmiesse
CATEGORIES:Sportif
STATUS:
URL;VALUE=URI:https://stadeaurillacois.sportsregions.fr/evenements/2026/05/02/concours-tir-campagne-a-bargues-2433177
END:VEVENT
END:VCALENDAR
