BEGIN:VCALENDAR
VERSION:2.0
PRODID:-//hacksw/handcal//NONSGML v1.0//EN
BEGIN:VEVENT
SUMMARY:TIR LIBRE
UID:a1df774b-c77a-4c06-a686-33ac23e7c2e5
DTSTART:20260430T154500Z
DTEND:20260430T190000Z
LOCATION:Localisation   
CATEGORIES:Entrainement
STATUS:
URL;VALUE=URI:https://stadeaurillacois.sportsregions.fr/evenements/2026/04/30/tir-libre-2346009
END:VEVENT
END:VCALENDAR
